BEGIN:VCALENDAR
VERSION:2.0
PRODID:-//John F. Kennedy Adult Education Centre - ECPv6.15.20//NONSGML v1.0//EN
CALSCALE:GREGORIAN
METHOD:PUBLISH
X-WR-CALNAME:John F. Kennedy Adult Education Centre
X-ORIGINAL-URL:https://jfkac.ca
X-WR-CALDESC:Events for John F. Kennedy Adult Education Centre
REFRESH-INTERVAL;VALUE=DURATION:PT1H
X-Robots-Tag:noindex
X-PUBLISHED-TTL:PT1H
BEGIN:VTIMEZONE
TZID:UTC
BEGIN:STANDARD
TZOFFSETFROM:+0000
TZOFFSETTO:+0000
TZNAME:UTC
DTSTART:20200101T000000
END:STANDARD
END:VTIMEZONE
BEGIN:VEVENT
DTSTART;VALUE=DATE:20221104
DTEND;VALUE=DATE:20221105
DTSTAMP:20260423T084349
CREATED:20220908T124433Z
LAST-MODIFIED:20220908T124433Z
UID:6841-1667520000-1667606399@jfkac.ca
SUMMARY:Ped day
DESCRIPTION:
URL:https://jfkac.ca/event/ped-day-12/
END:VEVENT
BEGIN:VEVENT
DTSTART;VALUE=DATE:20221014
DTEND;VALUE=DATE:20221015
DTSTAMP:20260423T084349
CREATED:20220607T200643Z
LAST-MODIFIED:20220607T200643Z
UID:6145-1665705600-1665791999@jfkac.ca
SUMMARY:Ped day
DESCRIPTION:
URL:https://jfkac.ca/event/ped-day-11/
END:VEVENT
BEGIN:VEVENT
DTSTART;TZID=UTC:20221013T190000
DTEND;TZID=UTC:20221013T210000
DTSTAMP:20260423T084349
CREATED:20221011T125949Z
LAST-MODIFIED:20221011T125949Z
UID:6976-1665687600-1665694800@jfkac.ca
SUMMARY:Graduation Ceremony 🎓
DESCRIPTION:
URL:https://jfkac.ca/event/graduation-ceremony-%f0%9f%8e%93/
END:VEVENT
BEGIN:VEVENT
DTSTART;VALUE=DATE:20221010
DTEND;VALUE=DATE:20221011
DTSTAMP:20260423T084349
CREATED:20220607T200544Z
LAST-MODIFIED:20220607T200544Z
UID:6141-1665360000-1665446399@jfkac.ca
SUMMARY:Thanksgiving
DESCRIPTION:
URL:https://jfkac.ca/event/thanksgiving/
END:VEVENT
BEGIN:VEVENT
DTSTART;VALUE=DATE:20221003
DTEND;VALUE=DATE:20221004
DTSTAMP:20260423T084349
CREATED:20220607T200616Z
LAST-MODIFIED:20220607T200616Z
UID:6143-1664755200-1664841599@jfkac.ca
SUMMARY:Ped day
DESCRIPTION:
URL:https://jfkac.ca/event/ped-day-10/
END:VEVENT
BEGIN:VEVENT
DTSTART;VALUE=DATE:20220905
DTEND;VALUE=DATE:20220906
DTSTAMP:20260423T084349
CREATED:20220607T200526Z
LAST-MODIFIED:20220607T200526Z
UID:6139-1662336000-1662422399@jfkac.ca
SUMMARY:Labour Day
DESCRIPTION:
URL:https://jfkac.ca/event/labour-day/
END:VEVENT
BEGIN:VEVENT
DTSTART;VALUE=DATE:20220829
DTEND;VALUE=DATE:20220830
DTSTAMP:20260423T084349
CREATED:20220607T200412Z
LAST-MODIFIED:20220607T200412Z
UID:6137-1661731200-1661817599@jfkac.ca
SUMMARY:Start of Fall Session
DESCRIPTION:
URL:https://jfkac.ca/event/start-of-fall-session/
END:VEVENT
BEGIN:VEVENT
DTSTART;VALUE=DATE:20220826
DTEND;VALUE=DATE:20220827
DTSTAMP:20260423T084349
CREATED:20220607T200018Z
LAST-MODIFIED:20220607T200018Z
UID:6131-1661472000-1661558399@jfkac.ca
SUMMARY:Ped day
DESCRIPTION:
URL:https://jfkac.ca/event/ped-day-9/
END:VEVENT
BEGIN:VEVENT
DTSTART;VALUE=DATE:20220704
DTEND;VALUE=DATE:20220705
DTSTAMP:20260423T084349
CREATED:20220607T200101Z
LAST-MODIFIED:20220607T200121Z
UID:6133-1656892800-1656979199@jfkac.ca
SUMMARY:Start of Summer Session
DESCRIPTION:
URL:https://jfkac.ca/event/start-of-summer-session/
END:VEVENT
BEGIN:VEVENT
DTSTART;VALUE=DATE:20220701
DTEND;VALUE=DATE:20220702
DTSTAMP:20260423T084349
CREATED:20220128T012540Z
LAST-MODIFIED:20220128T012540Z
UID:5466-1656633600-1656719999@jfkac.ca
SUMMARY:Canada Day Holiday
DESCRIPTION:
URL:https://jfkac.ca/event/canada-day-holiday/
END:VEVENT
BEGIN:VEVENT
DTSTART;VALUE=DATE:20220624
DTEND;VALUE=DATE:20220625
DTSTAMP:20260423T084349
CREATED:20220128T012516Z
LAST-MODIFIED:20220128T012516Z
UID:5464-1656028800-1656115199@jfkac.ca
SUMMARY:St. Jean Baptiste Holiday
DESCRIPTION:
URL:https://jfkac.ca/event/st-jean-baptiste-holiday-2/
END:VEVENT
BEGIN:VEVENT
DTSTART;VALUE=DATE:20220623
DTEND;VALUE=DATE:20220630
DTSTAMP:20260423T084349
CREATED:20220608T230357Z
LAST-MODIFIED:20220608T230738Z
UID:6190-1655942400-1656547199@jfkac.ca
SUMMARY:End-of-Semester Exam
DESCRIPTION:Spring Semester Exams-final
URL:https://jfkac.ca/event/end-of-semester-exam/
END:VEVENT
BEGIN:VEVENT
DTSTART;VALUE=DATE:20220523
DTEND;VALUE=DATE:20220524
DTSTAMP:20260423T084349
CREATED:20220128T012454Z
LAST-MODIFIED:20220128T012454Z
UID:5462-1653264000-1653350399@jfkac.ca
SUMMARY:Victoria Day Holiday
DESCRIPTION:
URL:https://jfkac.ca/event/victoria-day-holiday-2/
END:VEVENT
BEGIN:VEVENT
DTSTART;VALUE=DATE:20220418
DTEND;VALUE=DATE:20220419
DTSTAMP:20260423T084349
CREATED:20220128T012418Z
LAST-MODIFIED:20220128T012418Z
UID:5460-1650240000-1650326399@jfkac.ca
SUMMARY:Easter Monday Holiday
DESCRIPTION:
URL:https://jfkac.ca/event/easter-monday-holiday/
END:VEVENT
BEGIN:VEVENT
DTSTART;VALUE=DATE:20220415
DTEND;VALUE=DATE:20220416
DTSTAMP:20260423T084349
CREATED:20220128T012359Z
LAST-MODIFIED:20220128T012359Z
UID:5458-1649980800-1650067199@jfkac.ca
SUMMARY:Good Friday Holiday
DESCRIPTION:
URL:https://jfkac.ca/event/good-friday-holiday/
END:VEVENT
BEGIN:VEVENT
DTSTART;VALUE=DATE:20220228
DTEND;VALUE=DATE:20220305
DTSTAMP:20260423T084349
CREATED:20211210T145330Z
LAST-MODIFIED:20211210T145330Z
UID:5145-1646006400-1646438399@jfkac.ca
SUMMARY:Spring Break
DESCRIPTION:
URL:https://jfkac.ca/event/spring-break/
END:VEVENT
BEGIN:VEVENT
DTSTART;VALUE=DATE:20220211
DTEND;VALUE=DATE:20220212
DTSTAMP:20260423T084349
CREATED:20211210T145218Z
LAST-MODIFIED:20211210T145218Z
UID:5143-1644537600-1644623999@jfkac.ca
SUMMARY:Ped day
DESCRIPTION:
URL:https://jfkac.ca/event/ped-day-8/
END:VEVENT
BEGIN:VEVENT
DTSTART;VALUE=DATE:20220106
DTEND;VALUE=DATE:20220107
DTSTAMP:20260423T084349
CREATED:20211210T145120Z
LAST-MODIFIED:20211210T145120Z
UID:5141-1641427200-1641513599@jfkac.ca
SUMMARY:Winter semester resume
DESCRIPTION:
URL:https://jfkac.ca/event/winter-semester-resume/
END:VEVENT
BEGIN:VEVENT
DTSTART;VALUE=DATE:20211223
DTEND;VALUE=DATE:20220106
DTSTAMP:20260423T084349
CREATED:20210910T181316Z
LAST-MODIFIED:20210910T181316Z
UID:3599-1640217600-1641427199@jfkac.ca
SUMMARY:Winter Holiday
DESCRIPTION:
URL:https://jfkac.ca/event/winter-holiday/
END:VEVENT
BEGIN:VEVENT
DTSTART;VALUE=DATE:20211221
DTEND;VALUE=DATE:20211223
DTSTAMP:20260423T084349
CREATED:20211220T195627Z
LAST-MODIFIED:20211220T195627Z
UID:5223-1640044800-1640217599@jfkac.ca
SUMMARY:Classes cancelled ⚠️
DESCRIPTION:
URL:https://jfkac.ca/event/classes-cancelled-%e2%9a%a0%ef%b8%8f/
END:VEVENT
BEGIN:VEVENT
DTSTART;VALUE=DATE:20211210
DTEND;VALUE=DATE:20211211
DTSTAMP:20260423T084349
CREATED:20210910T181229Z
LAST-MODIFIED:20211201T202835Z
UID:3597-1639094400-1639180799@jfkac.ca
SUMMARY:Ped day
DESCRIPTION:
URL:https://jfkac.ca/event/ped-day-7/
END:VEVENT
BEGIN:VEVENT
DTSTART;VALUE=DATE:20211206
DTEND;VALUE=DATE:20211207
DTSTAMP:20260423T084349
CREATED:20211201T202747Z
LAST-MODIFIED:20211201T202747Z
UID:5126-1638748800-1638835199@jfkac.ca
SUMMARY:Winter semester starts
DESCRIPTION:
URL:https://jfkac.ca/event/winter-semester-starts/
END:VEVENT
BEGIN:VEVENT
DTSTART;VALUE=DATE:20211105
DTEND;VALUE=DATE:20211106
DTSTAMP:20260423T084349
CREATED:20210910T181201Z
LAST-MODIFIED:20210910T181201Z
UID:3595-1636070400-1636156799@jfkac.ca
SUMMARY:Ped day
DESCRIPTION:
URL:https://jfkac.ca/event/ped-day-6/
END:VEVENT
BEGIN:VEVENT
DTSTART;TZID=UTC:20211020T090000
DTEND;TZID=UTC:20211020T210000
DTSTAMP:20260423T084349
CREATED:20211005T130745Z
LAST-MODIFIED:20211014T201527Z
UID:4336-1634720400-1634763600@jfkac.ca
SUMMARY:EMSB Education and Career Fair 💻
DESCRIPTION:
URL:https://jfkac.ca/event/emsb-education-and-career-fair-%f0%9f%92%bb/
LOCATION:Virtual
END:VEVENT
BEGIN:VEVENT
DTSTART;VALUE=DATE:20211015
DTEND;VALUE=DATE:20211016
DTSTAMP:20260423T084349
CREATED:20210910T181125Z
LAST-MODIFIED:20210910T181125Z
UID:3593-1634256000-1634342399@jfkac.ca
SUMMARY:Ped day
DESCRIPTION:
URL:https://jfkac.ca/event/ped-day-5/
END:VEVENT
BEGIN:VEVENT
DTSTART;VALUE=DATE:20211011
DTEND;VALUE=DATE:20211012
DTSTAMP:20260423T084349
CREATED:20210627T124057Z
LAST-MODIFIED:20211009T161933Z
UID:3271-1633910400-1633996799@jfkac.ca
SUMMARY:Thanksgiving Day 🦃
DESCRIPTION:
URL:https://jfkac.ca/event/thanksgiving-day-%f0%9f%a6%83/
END:VEVENT
BEGIN:VEVENT
DTSTART;VALUE=DATE:20210924
DTEND;VALUE=DATE:20210925
DTSTAMP:20260423T084349
CREATED:20210627T124009Z
LAST-MODIFIED:20210627T124009Z
UID:3269-1632441600-1632527999@jfkac.ca
SUMMARY:Ped Day
DESCRIPTION:
URL:https://jfkac.ca/event/ped-day-4/
END:VEVENT
BEGIN:VEVENT
DTSTART;VALUE=DATE:20210906
DTEND;VALUE=DATE:20210907
DTSTAMP:20260423T084349
CREATED:20210627T123823Z
LAST-MODIFIED:20210627T123846Z
UID:3264-1630886400-1630972799@jfkac.ca
SUMMARY:Labour Day
DESCRIPTION:
URL:https://jfkac.ca/event/ped-day-2/
END:VEVENT
BEGIN:VEVENT
DTSTART;VALUE=DATE:20210827
DTEND;VALUE=DATE:20210828
DTSTAMP:20260423T084349
CREATED:20210706T215431Z
LAST-MODIFIED:20210706T215431Z
UID:3373-1630022400-1630108799@jfkac.ca
SUMMARY:Fall Semester starts 🍂
DESCRIPTION:
URL:https://jfkac.ca/event/fall-semester-starts-%f0%9f%8d%82/
END:VEVENT
BEGIN:VEVENT
DTSTART;VALUE=DATE:20210826
DTEND;VALUE=DATE:20210827
DTSTAMP:20260423T084349
CREATED:20210627T123944Z
LAST-MODIFIED:20210627T123944Z
UID:3267-1629936000-1630022399@jfkac.ca
SUMMARY:Ped Day
DESCRIPTION:
URL:https://jfkac.ca/event/ped-day-3/
END:VEVENT
END:VCALENDAR